BEGIN:VCALENDAR
VERSION:2.0
PRODID:-//FIRST IN ALASKA - ECPv6.15.20//NONSGML v1.0//EN
CALSCALE:GREGORIAN
METHOD:PUBLISH
X-WR-CALNAME:FIRST IN ALASKA
X-ORIGINAL-URL:https://www.jedc.org/firstinalaska
X-WR-CALDESC:Events for FIRST IN ALASKA
REFRESH-INTERVAL;VALUE=DURATION:PT1H
X-Robots-Tag:noindex
X-PUBLISHED-TTL:PT1H
BEGIN:VTIMEZONE
TZID:America/Anchorage
BEGIN:DAYLIGHT
TZOFFSETFROM:-0900
TZOFFSETTO:-0800
TZNAME:AKDT
DTSTART:20240310T110000
END:DAYLIGHT
BEGIN:STANDARD
TZOFFSETFROM:-0800
TZOFFSETTO:-0900
TZNAME:AKST
DTSTART:20241103T100000
END:STANDARD
BEGIN:DAYLIGHT
TZOFFSETFROM:-0900
TZOFFSETTO:-0800
TZNAME:AKDT
DTSTART:20250309T110000
END:DAYLIGHT
BEGIN:STANDARD
TZOFFSETFROM:-0800
TZOFFSETTO:-0900
TZNAME:AKST
DTSTART:20251102T100000
END:STANDARD
BEGIN:DAYLIGHT
TZOFFSETFROM:-0900
TZOFFSETTO:-0800
TZNAME:AKDT
DTSTART:20260308T110000
END:DAYLIGHT
BEGIN:STANDARD
TZOFFSETFROM:-0800
TZOFFSETTO:-0900
TZNAME:AKST
DTSTART:20261101T100000
END:STANDARD
END:VTIMEZONE
BEGIN:VEVENT
DTSTART;VALUE=DATE:20251212
DTEND;VALUE=DATE:20251214
DTSTAMP:20260425T064854
CREATED:20251003T175630Z
LAST-MODIFIED:20251203T012425Z
UID:6241-1765497600-1765670399@www.jedc.org
SUMMARY:FTC League Tournament
DESCRIPTION:The FTC Anchorage/MatSu region league finale. \nDue to complications\, location has been changed to Colony High School. Date and Times remain the same.
URL:https://www.jedc.org/firstinalaska/event/ftc-league-tournament/
LOCATION:Colony High School\, 9550 E Bogard Rd\, Palmer\, 99645\, United States
CATEGORIES:FIRST Tech Challenge
END:VEVENT
BEGIN:VEVENT
DTSTART;TZID=America/Anchorage:20251213T080000
DTEND;TZID=America/Anchorage:20251213T170000
DTSTAMP:20260425T064854
CREATED:20250819T223826Z
LAST-MODIFIED:20250830T064309Z
UID:5909-1765612800-1765645200@www.jedc.org
SUMMARY:Juneau Robot Jamboree
DESCRIPTION:The annual Juneau Robot Jamboree! Held in Juneau’s Centennial Hall\, this features the qualifying tournament for FIRST LEGO League Challenge teams from around Southeast Alaska along with a FIRST LEGO League Explore Festival.
URL:https://www.jedc.org/firstinalaska/event/juneau-robot-jamboree/
LOCATION:Centennial Hall Convention Center\, 101 Egan Drive\, Juneau\, AK\, 99801\, United States
CATEGORIES:FIRST Lego League Challenge,FIRST Lego League Explore
END:VEVENT
END:VCALENDAR