BEGIN:VCALENDAR
VERSION:2.0
PRODID:-//FIRST IN ALASKA - ECPv6.15.20//NONSGML v1.0//EN
CALSCALE:GREGORIAN
METHOD:PUBLISH
X-WR-CALNAME:FIRST IN ALASKA
X-ORIGINAL-URL:https://www.jedc.org/firstinalaska
X-WR-CALDESC:Events for FIRST IN ALASKA
REFRESH-INTERVAL;VALUE=DURATION:PT1H
X-Robots-Tag:noindex
X-PUBLISHED-TTL:PT1H
BEGIN:VTIMEZONE
TZID:America/Anchorage
BEGIN:DAYLIGHT
TZOFFSETFROM:-0900
TZOFFSETTO:-0800
TZNAME:AKDT
DTSTART:20250309T110000
END:DAYLIGHT
BEGIN:STANDARD
TZOFFSETFROM:-0800
TZOFFSETTO:-0900
TZNAME:AKST
DTSTART:20251102T100000
END:STANDARD
BEGIN:DAYLIGHT
TZOFFSETFROM:-0900
TZOFFSETTO:-0800
TZNAME:AKDT
DTSTART:20260308T110000
END:DAYLIGHT
BEGIN:STANDARD
TZOFFSETFROM:-0800
TZOFFSETTO:-0900
TZNAME:AKST
DTSTART:20261101T100000
END:STANDARD
BEGIN:DAYLIGHT
TZOFFSETFROM:-0900
TZOFFSETTO:-0800
TZNAME:AKDT
DTSTART:20270314T110000
END:DAYLIGHT
BEGIN:STANDARD
TZOFFSETFROM:-0800
TZOFFSETTO:-0900
TZNAME:AKST
DTSTART:20271107T100000
END:STANDARD
END:VTIMEZONE
BEGIN:VEVENT
DTSTART;VALUE=DATE:20260109
DTEND;VALUE=DATE:20260111
DTSTAMP:20260425T023215
CREATED:20251003T175237Z
LAST-MODIFIED:20251122T012630Z
UID:6239-1767916800-1768089599@www.jedc.org
SUMMARY:FTC Southeast Qualifier
DESCRIPTION:FIRST Tech Challenge Qualifier tournament. To be held in Juneau.
URL:https://www.jedc.org/firstinalaska/event/ftc-southeast-qualifier-tentative/
LOCATION:Thunder Mountain Middle School\, 3101 Riverside Dr\, Juneau\, AK\, 99801\, United States
CATEGORIES:FIRST Tech Challenge
END:VEVENT
BEGIN:VEVENT
DTSTART;VALUE=DATE:20260110
DTEND;VALUE=DATE:20260111
DTSTAMP:20260425T023215
CREATED:20250110T184918Z
LAST-MODIFIED:20251122T014935Z
UID:6237-1768003200-1768089599@www.jedc.org
SUMMARY:FLL Challenge Qualifier Anchorage/ MatSu
DESCRIPTION:FLL Challenge qualifier for teams in Anchorage/ MatSu. At this time\, we only have enough teams for one qualifier.
URL:https://www.jedc.org/firstinalaska/event/fll-challenge-qualifier-2-anchorage-tentative/
LOCATION:Wendler Middle School\, 2905 Lake Otis Pkwy\, Anchorage\, AK\, 99508\, United States
CATEGORIES:FIRST Lego League Challenge,FIRST Lego League Explore
END:VEVENT
BEGIN:VEVENT
DTSTART;VALUE=DATE:20260110
DTEND;VALUE=DATE:20260111
DTSTAMP:20260425T023215
CREATED:20250919T232236Z
LAST-MODIFIED:20260423T180618Z
UID:6147-1768003200-1768089599@www.jedc.org
SUMMARY:Tanana Valley Robot Rally
DESCRIPTION:FIRST LEGO League Challenge Qualifier for Fairbanks FLL Challenge teams.
URL:https://www.jedc.org/firstinalaska/event/fll-fairbanks-qualifier/
LOCATION:Tanana Middle School\, 600 Trainor Gate Rd.\, Fairbanks\, AK\, 99701\, United States
CATEGORIES:FIRST Lego League Explore
END:VEVENT
END:VCALENDAR