BEGIN:VCALENDAR
VERSION:2.0
PRODID:-//FIRST IN ALASKA - ECPv6.15.19//NONSGML v1.0//EN
CALSCALE:GREGORIAN
METHOD:PUBLISH
X-ORIGINAL-URL:https://www.jedc.org/firstinalaska
X-WR-CALDESC:Events for FIRST IN ALASKA
REFRESH-INTERVAL;VALUE=DURATION:PT1H
X-Robots-Tag:noindex
X-PUBLISHED-TTL:PT1H
BEGIN:VTIMEZONE
TZID:America/Anchorage
BEGIN:DAYLIGHT
TZOFFSETFROM:-0900
TZOFFSETTO:-0800
TZNAME:AKDT
DTSTART:20250309T110000
END:DAYLIGHT
BEGIN:STANDARD
TZOFFSETFROM:-0800
TZOFFSETTO:-0900
TZNAME:AKST
DTSTART:20251102T100000
END:STANDARD
BEGIN:DAYLIGHT
TZOFFSETFROM:-0900
TZOFFSETTO:-0800
TZNAME:AKDT
DTSTART:20260308T110000
END:DAYLIGHT
BEGIN:STANDARD
TZOFFSETFROM:-0800
TZOFFSETTO:-0900
TZNAME:AKST
DTSTART:20261101T100000
END:STANDARD
BEGIN:DAYLIGHT
TZOFFSETFROM:-0900
TZOFFSETTO:-0800
TZNAME:AKDT
DTSTART:20270314T110000
END:DAYLIGHT
BEGIN:STANDARD
TZOFFSETFROM:-0800
TZOFFSETTO:-0900
TZNAME:AKST
DTSTART:20271107T100000
END:STANDARD
END:VTIMEZONE
BEGIN:VEVENT
DTSTART;TZID=America/Anchorage:20260429T080000
DTEND;TZID=America/Anchorage:20260502T170000
DTSTAMP:20260423T035345
CREATED:20250819T224511Z
LAST-MODIFIED:20250830T064247Z
UID:5911-1777449600-1777741200@www.jedc.org
SUMMARY:FIRST Championship 2025-2026
DESCRIPTION:FIRST’S FIRST AGE 2025 – 2026 season culminates with the world championship held in Houston\, Texas.
URL:https://www.jedc.org/firstinalaska/event/first-world-championship-2025-2026/
LOCATION:Private: George R. Brown Convention Center\, 1001 Avenida De Las Americas\, Houston\, TX\, 77010\, United States
CATEGORIES:FIRST Lego League Challenge,FIRST Tech Challenge
END:VEVENT
END:VCALENDAR