BEGIN:VCALENDAR
VERSION:2.0
PRODID:-//FIRST IN ALASKA - ECPv6.15.19//NONSGML v1.0//EN
CALSCALE:GREGORIAN
METHOD:PUBLISH
X-ORIGINAL-URL:https://www.jedc.org/firstinalaska
X-WR-CALDESC:Events for FIRST IN ALASKA
REFRESH-INTERVAL;VALUE=DURATION:PT1H
X-Robots-Tag:noindex
X-PUBLISHED-TTL:PT1H
BEGIN:VTIMEZONE
TZID:America/Anchorage
BEGIN:DAYLIGHT
TZOFFSETFROM:-0900
TZOFFSETTO:-0800
TZNAME:AKDT
DTSTART:20230312T110000
END:DAYLIGHT
BEGIN:STANDARD
TZOFFSETFROM:-0800
TZOFFSETTO:-0900
TZNAME:AKST
DTSTART:20231105T100000
END:STANDARD
BEGIN:DAYLIGHT
TZOFFSETFROM:-0900
TZOFFSETTO:-0800
TZNAME:AKDT
DTSTART:20240310T110000
END:DAYLIGHT
BEGIN:STANDARD
TZOFFSETFROM:-0800
TZOFFSETTO:-0900
TZNAME:AKST
DTSTART:20241103T100000
END:STANDARD
BEGIN:DAYLIGHT
TZOFFSETFROM:-0900
TZOFFSETTO:-0800
TZNAME:AKDT
DTSTART:20250309T110000
END:DAYLIGHT
BEGIN:STANDARD
TZOFFSETFROM:-0800
TZOFFSETTO:-0900
TZNAME:AKST
DTSTART:20251102T100000
END:STANDARD
BEGIN:DAYLIGHT
TZOFFSETFROM:-0900
TZOFFSETTO:-0800
TZNAME:AKDT
DTSTART:20260308T110000
END:DAYLIGHT
BEGIN:STANDARD
TZOFFSETFROM:-0800
TZOFFSETTO:-0900
TZNAME:AKST
DTSTART:20261101T100000
END:STANDARD
END:VTIMEZONE
BEGIN:VEVENT
DTSTART;VALUE=DATE:20251206
DTEND;VALUE=DATE:20251207
DTSTAMP:20260423T023012
CREATED:20251003T174451Z
LAST-MODIFIED:20251122T013157Z
UID:6233-1764979200-1765065599@www.jedc.org
SUMMARY:FTC Fairbanks Qualifier
DESCRIPTION:FIRST Tech Challenge Qualifier tournament.
URL:https://www.jedc.org/firstinalaska/event/ftc-fairbanks-qualifier-tentative/
LOCATION:UAF – Usibelli Engineering Building\, 505 S Chandalar\, Fairbanks\, AK\, 99775\, United States
CATEGORIES:FIRST Tech Challenge
END:VEVENT
BEGIN:VEVENT
DTSTART;VALUE=DATE:20251205
DTEND;VALUE=DATE:20251206
DTSTAMP:20260423T023012
CREATED:20250909T183338Z
LAST-MODIFIED:20251121T184440Z
UID:6078-1764892800-1764979199@www.jedc.org
SUMMARY:FTC League Meet #3
DESCRIPTION:FIRST tech Challenge league meet
URL:https://www.jedc.org/firstinalaska/event/ftc-league-meet-3/
LOCATION:Bettye Davis East Anchorage High\, 4025 E Northern Lights Blvd.\, Anchorage\, AK\, 99508\, United States
CATEGORIES:FIRST Tech Challenge
END:VEVENT
BEGIN:VEVENT
DTSTART;VALUE=DATE:20251114
DTEND;VALUE=DATE:20251115
DTSTAMP:20260423T023012
CREATED:20250830T065008Z
LAST-MODIFIED:20250830T065008Z
UID:6014-1763078400-1763164799@www.jedc.org
SUMMARY:FTC League Meet #2
DESCRIPTION:FIRST Tech Challenge League Meet
URL:https://www.jedc.org/firstinalaska/event/ftc-league-meet-2/
LOCATION:Dimond High School\, 2909 W 88th Ave.\, Anchorage\, AK\, 99502\, United States
CATEGORIES:FIRST Tech Challenge
END:VEVENT
BEGIN:VEVENT
DTSTART;VALUE=DATE:20251029
DTEND;VALUE=DATE:20251030
DTSTAMP:20260423T023012
CREATED:20250830T064728Z
LAST-MODIFIED:20250830T065104Z
UID:6011-1761696000-1761782399@www.jedc.org
SUMMARY:FTC League Meet #1
DESCRIPTION:FIRST Tech Challenge League Meet
URL:https://www.jedc.org/firstinalaska/event/ftc-league-meet-1/
LOCATION:West High School\, 1700 Hillcrest Dr.\, Anchorage\, AK\, 99517\, United States
CATEGORIES:FIRST Tech Challenge
END:VEVENT
BEGIN:VEVENT
DTSTART;VALUE=DATE:20251025
DTEND;VALUE=DATE:20251026
DTSTAMP:20260423T023012
CREATED:20250912T181635Z
LAST-MODIFIED:20251121T184454Z
UID:6101-1761350400-1761436799@www.jedc.org
SUMMARY:FTC Southeast Scrimmage
DESCRIPTION:FIRST Tech Challenge Southeast Scrimmage event
URL:https://www.jedc.org/firstinalaska/event/ftc-southeast-scrimmage/
LOCATION:AK
CATEGORIES:FIRST Tech Challenge
END:VEVENT
BEGIN:VEVENT
DTSTART;VALUE=DATE:20250926
DTEND;VALUE=DATE:20250927
DTSTAMP:20260423T023012
CREATED:20250926T184147Z
LAST-MODIFIED:20251121T184534Z
UID:6199-1758844800-1758931199@www.jedc.org
SUMMARY:FTC Anchorage Scrimmage Event
DESCRIPTION:FIRST Tech Challenge Anchorage Scrimmage event. Held in the West High Library.
URL:https://www.jedc.org/firstinalaska/event/ftc-anchorage-scrimmage-event/
LOCATION:West High School\, 1700 Hillcrest Dr.\, Anchorage\, AK\, 99517\, United States
CATEGORIES:FIRST Tech Challenge
END:VEVENT
BEGIN:VEVENT
DTSTART;TZID=America/Anchorage:20250918T180000
DTEND;TZID=America/Anchorage:20250918T200000
DTSTAMP:20260423T023012
CREATED:20250918T021658Z
LAST-MODIFIED:20250918T022914Z
UID:6123-1758218400-1758225600@www.jedc.org
SUMMARY:FLL Coach Training
DESCRIPTION:Statewide coach training event\, will be held in person at the JEDC and on zoom (linked here). Helpful information for both new and returning coaches\, including an introduction to FIRST Lego League (challenge and explore) and a walkthrough for the UNEARTHED challenge season gameboard. \nPlease RSVP and direct all questions to lwild@jedc.org.
URL:https://www.jedc.org/firstinalaska/event/fll-coach-training/
LOCATION:Juneau Economic Developement Council\, 612 W. Willoughby Ave\, Juneau\, AK\, 99801\, United States
END:VEVENT
BEGIN:VEVENT
DTSTART;TZID=America/Anchorage:20250906T100000
DTEND;TZID=America/Anchorage:20250906T140000
DTSTAMP:20260423T023012
CREATED:20250830T062928Z
LAST-MODIFIED:20250830T062928Z
UID:6009-1757152800-1757167200@www.jedc.org
SUMMARY:Southeast 2025-2026 FTC Season Kickoff
DESCRIPTION:FIRST Tech Challenge Kickoff for Southeast Alaska teams for the 2025-2026 DECODE Season. Hosted by JDHS Robotics.
URL:https://www.jedc.org/firstinalaska/event/southeast-2025-2026-ftc-season-kickoff/
LOCATION:Juneau Douglas High School (JDHS)\, 1639 Glacier Ave\, Juneau\, AK\, 99801\, United States
CATEGORIES:FIRST Tech Challenge
END:VEVENT
BEGIN:VEVENT
DTSTART;TZID=America/Anchorage:20250906T100000
DTEND;TZID=America/Anchorage:20250906T140000
DTSTAMP:20260423T023012
CREATED:20250830T002504Z
LAST-MODIFIED:20250830T062535Z
UID:5993-1757152800-1757167200@www.jedc.org
SUMMARY:Southcentral 2025-2026 FTC Season Kickoff
DESCRIPTION:
URL:https://www.jedc.org/firstinalaska/event/southcentral-2025-2026-ftc-season-kickoff/
LOCATION:Private: UAA Engineering & Industry Building (EIB)\, 2900 Spirit Dr.\, Anchorage\, AK\, 99508\, United States
CATEGORIES:FIRST Tech Challenge
END:VEVENT
BEGIN:VEVENT
DTSTART;TZID=America/Anchorage:20250906T100000
DTEND;TZID=America/Anchorage:20250906T120000
DTSTAMP:20260423T023012
CREATED:20250830T065349Z
LAST-MODIFIED:20250904T011835Z
UID:6017-1757152800-1757160000@www.jedc.org
SUMMARY:Statewide Remote 2025-2026 FTC Season Kickoff
DESCRIPTION:Statewide Remote FTC Kickoff for the DECODE season. Zoom link will be posted here closer to the event date. \nJoin us here\, or use: Meeting ID: 815 3139 3800\nPasscode: 531922
URL:https://www.jedc.org/firstinalaska/event/statewide-remote-ftc-2025-2026-kickoff/
LOCATION:AK
CATEGORIES:FIRST Tech Challenge
END:VEVENT
BEGIN:VEVENT
DTSTART;TZID=America/Anchorage:20250906T080000
DTEND;TZID=America/Anchorage:20250906T120000
DTSTAMP:20260423T023012
CREATED:20250819T223208Z
LAST-MODIFIED:20250830T054429Z
UID:5904-1757145600-1757160000@www.jedc.org
SUMMARY:Fairbanks 2025-2026 FTC Season Kickoff
DESCRIPTION:FIRST Tech Challenge Kickoff for Interior Alaska teams for the 2025-2026 DECODE Season. Hosted by Cyberlynx FTC.
URL:https://www.jedc.org/firstinalaska/event/ftc-2025-2026-season-kickoff/
LOCATION:Private: Fairbanks Cyberlynx\, 3330 Industrial Ave.\, Fairbanks\, AK\, 99701\, United States
CATEGORIES:FIRST Tech Challenge
END:VEVENT
BEGIN:VEVENT
DTSTART;VALUE=DATE:20250805
DTEND;VALUE=DATE:20250806
DTSTAMP:20260423T023012
CREATED:20250819T222343Z
LAST-MODIFIED:20250829T231023Z
UID:5902-1754352000-1754438399@www.jedc.org
SUMMARY:FLL UNEARTHED Season Kickoff
DESCRIPTION:FIRST Lego League’s UNEARTHED Season Release! Robot Game board\, missions\, and innovation project revealed for FLL Challenge\, Explore and Discover.
URL:https://www.jedc.org/firstinalaska/event/fll-unearthed-season-kickoff/
LOCATION:AK
END:VEVENT
BEGIN:VEVENT
DTSTART;TZID=America/Anchorage:20250214T080000
DTEND;TZID=America/Anchorage:20250215T170000
DTSTAMP:20260423T023012
CREATED:20241017T224552Z
LAST-MODIFIED:20241017T224552Z
UID:4987-1739520000-1739638800@www.jedc.org
SUMMARY:State FTC Championship
DESCRIPTION:Join FIRST in Alaska for the FTC State Championship being held at UAA on Feb 14-15!
URL:https://www.jedc.org/firstinalaska/event/state-ftc-championship/
LOCATION:UAA\, 3211 Providence Dr\, Anchorage\, AK\, 99508\, United States
CATEGORIES:FIRST Tech Challenge
END:VEVENT
BEGIN:VEVENT
DTSTART;VALUE=DATE:20250204
DTEND;VALUE=DATE:20250208
DTSTAMP:20260423T023012
CREATED:20241120T173504Z
LAST-MODIFIED:20241120T173504Z
UID:5201-1738627200-1738972799@www.jedc.org
SUMMARY:Dean's List Interviews
DESCRIPTION:Deans List Interviews for the 2024-2025 Season will be held between Feb 04 and Feb 07!
URL:https://www.jedc.org/firstinalaska/event/deans-list-interviews/
LOCATION:AK
CATEGORIES:FIRST Tech Challenge
END:VEVENT
BEGIN:VEVENT
DTSTART;TZID=America/Anchorage:20250201T080000
DTEND;TZID=America/Anchorage:20250201T170000
DTSTAMP:20260423T023012
CREATED:20241017T223606Z
LAST-MODIFIED:20241017T231034Z
UID:4974-1738396800-1738429200@www.jedc.org
SUMMARY:State FLL Championship - Alaska Robot Rendezvous
DESCRIPTION:Join FIRST in Alaska at the State FLL Championship\, dubbed the Alaska Robot Rendezvous\, the event will be held at Goldenview Middle School! \n 
URL:https://www.jedc.org/firstinalaska/event/state-fll-championship-alaska-robot-rendezvous/
LOCATION:Goldenview Middle School\, 15800 Goldenview Dr\, Anchorage\, AK\, 99516\, United States
CATEGORIES:FIRST Lego League Challenge
END:VEVENT
BEGIN:VEVENT
DTSTART;TZID=America/Anchorage:20250125T080000
DTEND;TZID=America/Anchorage:20250125T170000
DTSTAMP:20260423T023012
CREATED:20241226T202711Z
LAST-MODIFIED:20241226T202711Z
UID:5278-1737792000-1737824400@www.jedc.org
SUMMARY:Fairbanks FTC Qualifier
DESCRIPTION:
URL:https://www.jedc.org/firstinalaska/event/fairbanks-ftc-qualifier/
LOCATION:University of Alaska Fairbanks
END:VEVENT
BEGIN:VEVENT
DTSTART;TZID=America/Anchorage:20250118T080000
DTEND;TZID=America/Anchorage:20250118T170000
DTSTAMP:20260423T023012
CREATED:20241028T233531Z
LAST-MODIFIED:20241220T221055Z
UID:5067-1737187200-1737219600@www.jedc.org
SUMMARY:Remote Statewide FLL Qualifier
DESCRIPTION:
URL:https://www.jedc.org/firstinalaska/event/tentative-remote-statewide-fll-qualifier/
LOCATION:AK
CATEGORIES:FIRST Lego League Challenge
END:VEVENT
BEGIN:VEVENT
DTSTART;TZID=America/Anchorage:20250118T080000
DTEND;TZID=America/Anchorage:20250118T170000
DTSTAMP:20260423T023012
CREATED:20241026T001905Z
LAST-MODIFIED:20241029T180323Z
UID:5025-1737187200-1737219600@www.jedc.org
SUMMARY:Anchorage Area FLL Qualifier #2
DESCRIPTION:Hosted by Twindly Bridge Robotics!
URL:https://www.jedc.org/firstinalaska/event/anchorage-area-fll-qualifier-2/
LOCATION:Mat-Su Career and Technical School\, 2472 N Seward Meridian Pkwy\, Wasilla\, AK\, 99654\, United States
CATEGORIES:FIRST Lego League Challenge
END:VEVENT
BEGIN:VEVENT
DTSTART;TZID=America/Anchorage:20250118T080000
DTEND;TZID=America/Anchorage:20250118T170000
DTSTAMP:20260423T023012
CREATED:20241021T172814Z
LAST-MODIFIED:20241220T221551Z
UID:5000-1737187200-1737219600@www.jedc.org
SUMMARY:North Slope Qualifier
DESCRIPTION:Join teams in the North Slope Region for their FIRST LEGO League Qualifier! it will be hosted at Eben Hopson Middle School
URL:https://www.jedc.org/firstinalaska/event/north-slope-qualifier/
LOCATION:Eben Hopson Middle School\, 6501 Transit St.\, Barrow\, AK\, 99723\, United States
CATEGORIES:FIRST Lego League Challenge
END:VEVENT
BEGIN:VEVENT
DTSTART;TZID=America/Anchorage:20250117T150000
DTEND;TZID=America/Anchorage:20250118T170000
DTSTAMP:20260423T023012
CREATED:20241024T160859Z
LAST-MODIFIED:20241024T161104Z
UID:5006-1737126000-1737219600@www.jedc.org
SUMMARY:Southeast FTC Qualifier
DESCRIPTION:Join Southeast Alaska Teams in their path to the state championship!
URL:https://www.jedc.org/firstinalaska/event/southeast-ftc-qualifier/
LOCATION:Juneau Douglas High School (JDHS)\, 1639 Glacier Ave\, Juneau\, AK\, 99801\, United States
CATEGORIES:FIRST Tech Challenge
END:VEVENT
BEGIN:VEVENT
DTSTART;TZID=America/Anchorage:20250115T080000
DTEND;TZID=America/Anchorage:20250115T195900
DTSTAMP:20260423T023012
CREATED:20241120T173803Z
LAST-MODIFIED:20241120T173803Z
UID:5203-1736928000-1736971140@www.jedc.org
SUMMARY:Deadline For Deans List Submissions
DESCRIPTION:THE DEADLINE FOR FTC 2024-2025 DEANS LIST SUBMISSIONS IS JAN 15\, 2025 AT 7:59 PM AKST (11:59PM EST). ALL SUBMISSIONS MUST BE SUBMITTED BEFORE 7:59 IN ORDER TO BE CONSIDERED! LATE SUBMISSIONS WILL NOT BE ACCEPTED
URL:https://www.jedc.org/firstinalaska/event/deadline-for-deans-list-submissions/
LOCATION:AK
CATEGORIES:FIRST Tech Challenge
END:VEVENT
BEGIN:VEVENT
DTSTART;TZID=America/Anchorage:20250111T080000
DTEND;TZID=America/Anchorage:20250111T170000
DTSTAMP:20260423T023012
CREATED:20241017T223342Z
LAST-MODIFIED:20241017T223342Z
UID:4971-1736582400-1736614800@www.jedc.org
SUMMARY:Kenai FLL Qualifier
DESCRIPTION:The 2024 – 2025 Kenai Qualifier will be held at Kenai Middle School!
URL:https://www.jedc.org/firstinalaska/event/kenai-fll-qualifier/
LOCATION:Kenai Middle School\, 201 N Tinker Ln\, Kenai\, AK\, 99611\, United States
CATEGORIES:FIRST Lego League Challenge
END:VEVENT
BEGIN:VEVENT
DTSTART;TZID=America/Anchorage:20250110T080000
DTEND;TZID=America/Anchorage:20250111T170000
DTSTAMP:20260423T023012
CREATED:20241026T001752Z
LAST-MODIFIED:20250830T003309Z
UID:5023-1736496000-1736614800@www.jedc.org
SUMMARY:Southcentral FTC Qualifier
DESCRIPTION:
URL:https://www.jedc.org/firstinalaska/event/sc-ftc-qualifier/
LOCATION:West High School Gym\, 1700 Hillcrest Drive\, Anchorage\, AK\, 99509\, United States
CATEGORIES:FIRST Tech Challenge
END:VEVENT
BEGIN:VEVENT
DTSTART;TZID=America/Anchorage:20241214T080000
DTEND;TZID=America/Anchorage:20241214T170000
DTSTAMP:20260423T023012
CREATED:20241017T222322Z
LAST-MODIFIED:20241017T230947Z
UID:4967-1734163200-1734195600@www.jedc.org
SUMMARY:Juneau FLL Qualifier - Juneau Robot Jamboree
DESCRIPTION:Joins Southeast Alaskan Teams in their path to the State Tournament! the Juneau Robot Jamboree will be held at Centennial Hall Convention Center!
URL:https://www.jedc.org/firstinalaska/event/juneau-fll-qualifier-juneau-robot-jamboree/
LOCATION:Centennial Hall Convention Center\, 101 Egan Drive\, Juneau\, AK\, 99801\, United States
CATEGORIES:FIRST Lego League Challenge
END:VEVENT
BEGIN:VEVENT
DTSTART;TZID=America/Anchorage:20241213T080000
DTEND;TZID=America/Anchorage:20241214T170000
DTSTAMP:20260423T023012
CREATED:20241017T221935Z
LAST-MODIFIED:20241029T161832Z
UID:4964-1734076800-1734195600@www.jedc.org
SUMMARY:Southcentral League Tournament
DESCRIPTION:The Championship for the Southcentral League! The Southcentral League Tournament will be held at Redington MS/HS and hosted by Twindly Bridge Robotics!!
URL:https://www.jedc.org/firstinalaska/event/southcentral-league-tournament/
LOCATION:Redington MS/HS\, 10015 W Redington Dr\, Wasilla\, AK\, 99654\, United States
CATEGORIES:FIRST Lego League Challenge
END:VEVENT
BEGIN:VEVENT
DTSTART;TZID=America/Anchorage:20241213T080000
DTEND;TZID=America/Anchorage:20241214T170000
DTSTAMP:20260423T023012
CREATED:20241017T221743Z
LAST-MODIFIED:20241017T222651Z
UID:4961-1734076800-1734195600@www.jedc.org
SUMMARY:Bethel FLL Qualifier
DESCRIPTION:Join Bethel FLL teams as they compete to advance to the state FLL tournament in Anchorage! the Bethel FLL Qualifier will be held at Jung Elementary School!
URL:https://www.jedc.org/firstinalaska/event/bethel-fll-qualifier/
LOCATION:Kipusvik Cinema Building\, 903 Chief Eddie Hoffman Hwy\, Bethel\, AK\, 99559\, United States
CATEGORIES:FIRST Lego League Challenge
END:VEVENT
BEGIN:VEVENT
DTSTART;TZID=America/Anchorage:20241207T100000
DTEND;TZID=America/Anchorage:20241207T120000
DTSTAMP:20260423T023012
CREATED:20241114T230204Z
LAST-MODIFIED:20241114T230204Z
UID:5178-1733565600-1733572800@www.jedc.org
SUMMARY:Juneau FTC Scrimmage
DESCRIPTION:Join Southeast Alaskan FTC Teams in their Scrimmage! it will be in the JD Auxiliary Gym!
URL:https://www.jedc.org/firstinalaska/event/juneau-ftc-scrimmage/
LOCATION:Juneau Douglas High School (JDHS)\, 1639 Glacier Ave\, Juneau\, AK\, 99801\, United States
CATEGORIES:FIRST Tech Challenge
END:VEVENT
BEGIN:VEVENT
DTSTART;TZID=America/Anchorage:20241207T080000
DTEND;TZID=America/Anchorage:20241207T170000
DTSTAMP:20260423T023012
CREATED:20241017T215131Z
LAST-MODIFIED:20241017T215539Z
UID:4957-1733558400-1733590800@www.jedc.org
SUMMARY:Fairbanks FLL Qualifier
DESCRIPTION:Join local Fairbanks Teams in the Fairbanks FLL qualifier Saturday\, Dec 7th at Tanana Middle School!
URL:https://www.jedc.org/firstinalaska/event/fairbanks-fll-qualifier/
LOCATION:Tanana Middle School\, 600 Trainor Gate Rd.\, Fairbanks\, AK\, 99701\, United States
CATEGORIES:FIRST Lego League Challenge
END:VEVENT
BEGIN:VEVENT
DTSTART;TZID=America/Anchorage:20241207T080000
DTEND;TZID=America/Anchorage:20241207T170000
DTSTAMP:20260423T023012
CREATED:20241017T214854Z
LAST-MODIFIED:20241029T180255Z
UID:4953-1733558400-1733590800@www.jedc.org
SUMMARY:Anchorage Area FLL Qualifier #1
DESCRIPTION:Join Anchorage teams for the first of two Anchorage FLL Qualifiers. the first will be held at Central Middle School!
URL:https://www.jedc.org/firstinalaska/event/anchorage-area-fll-qualifier-1/
LOCATION:Central Middle School\, 1405 E St.\, Anchorage\, AK\, 99501\, United States
CATEGORIES:FIRST Lego League Challenge
END:VEVENT
BEGIN:VEVENT
DTSTART;TZID=America/Anchorage:20241123T113000
DTEND;TZID=America/Anchorage:20241123T133000
DTSTAMP:20260423T023012
CREATED:20241114T225922Z
LAST-MODIFIED:20241114T225922Z
UID:5173-1732361400-1732368600@www.jedc.org
SUMMARY:Juneau FLL Scrimmage
DESCRIPTION:Join Southeast Alaskan FLL Challenge Teams at their FLL scrimmage hosted at Thunder Mountain Middle School by JDHS FTC Teams!
URL:https://www.jedc.org/firstinalaska/event/juneau-fll-scrimmage/
LOCATION:Thunder Mountain Middle School\, 3101 Riverside Dr\, Juneau\, AK\, 99801\, United States
CATEGORIES:FIRST Lego League Challenge
END:VEVENT
END:VCALENDAR