BEGIN:VCALENDAR
VERSION:2.0
PRODID:-//FIRST IN ALASKA - ECPv6.15.20//NONSGML v1.0//EN
CALSCALE:GREGORIAN
METHOD:PUBLISH
X-ORIGINAL-URL:https://www.jedc.org/firstinalaska
X-WR-CALDESC:Events for FIRST IN ALASKA
REFRESH-INTERVAL;VALUE=DURATION:PT1H
X-Robots-Tag:noindex
X-PUBLISHED-TTL:PT1H
BEGIN:VTIMEZONE
TZID:America/Anchorage
BEGIN:DAYLIGHT
TZOFFSETFROM:-0900
TZOFFSETTO:-0800
TZNAME:AKDT
DTSTART:20240310T110000
END:DAYLIGHT
BEGIN:STANDARD
TZOFFSETFROM:-0800
TZOFFSETTO:-0900
TZNAME:AKST
DTSTART:20241103T100000
END:STANDARD
BEGIN:DAYLIGHT
TZOFFSETFROM:-0900
TZOFFSETTO:-0800
TZNAME:AKDT
DTSTART:20250309T110000
END:DAYLIGHT
BEGIN:STANDARD
TZOFFSETFROM:-0800
TZOFFSETTO:-0900
TZNAME:AKST
DTSTART:20251102T100000
END:STANDARD
BEGIN:DAYLIGHT
TZOFFSETFROM:-0900
TZOFFSETTO:-0800
TZNAME:AKDT
DTSTART:20260308T110000
END:DAYLIGHT
BEGIN:STANDARD
TZOFFSETFROM:-0800
TZOFFSETTO:-0900
TZNAME:AKST
DTSTART:20261101T100000
END:STANDARD
END:VTIMEZONE
BEGIN:VEVENT
DTSTART;VALUE=DATE:20251025
DTEND;VALUE=DATE:20251026
DTSTAMP:20260425T071153
CREATED:20250912T181635Z
LAST-MODIFIED:20251121T184454Z
UID:6101-1761350400-1761436799@www.jedc.org
SUMMARY:FTC Southeast Scrimmage
DESCRIPTION:FIRST Tech Challenge Southeast Scrimmage event
URL:https://www.jedc.org/firstinalaska/event/ftc-southeast-scrimmage/
LOCATION:AK
CATEGORIES:FIRST Tech Challenge
END:VEVENT
BEGIN:VEVENT
DTSTART;VALUE=DATE:20251029
DTEND;VALUE=DATE:20251030
DTSTAMP:20260425T071153
CREATED:20250830T064728Z
LAST-MODIFIED:20250830T065104Z
UID:6011-1761696000-1761782399@www.jedc.org
SUMMARY:FTC League Meet #1
DESCRIPTION:FIRST Tech Challenge League Meet
URL:https://www.jedc.org/firstinalaska/event/ftc-league-meet-1/
LOCATION:West High School\, 1700 Hillcrest Dr.\, Anchorage\, AK\, 99517\, United States
CATEGORIES:FIRST Tech Challenge
END:VEVENT
END:VCALENDAR