BEGIN:VCALENDAR
VERSION:2.0
PRODID:-//FIRST IN ALASKA - ECPv6.15.19//NONSGML v1.0//EN
CALSCALE:GREGORIAN
METHOD:PUBLISH
X-WR-CALNAME:FIRST IN ALASKA
X-ORIGINAL-URL:https://www.jedc.org/firstinalaska
X-WR-CALDESC:Events for FIRST IN ALASKA
REFRESH-INTERVAL;VALUE=DURATION:PT1H
X-Robots-Tag:noindex
X-PUBLISHED-TTL:PT1H
BEGIN:VTIMEZONE
TZID:America/Anchorage
BEGIN:DAYLIGHT
TZOFFSETFROM:-0900
TZOFFSETTO:-0800
TZNAME:AKDT
DTSTART:20250309T110000
END:DAYLIGHT
BEGIN:STANDARD
TZOFFSETFROM:-0800
TZOFFSETTO:-0900
TZNAME:AKST
DTSTART:20251102T100000
END:STANDARD
BEGIN:DAYLIGHT
TZOFFSETFROM:-0900
TZOFFSETTO:-0800
TZNAME:AKDT
DTSTART:20260308T110000
END:DAYLIGHT
BEGIN:STANDARD
TZOFFSETFROM:-0800
TZOFFSETTO:-0900
TZNAME:AKST
DTSTART:20261101T100000
END:STANDARD
BEGIN:DAYLIGHT
TZOFFSETFROM:-0900
TZOFFSETTO:-0800
TZNAME:AKDT
DTSTART:20270314T110000
END:DAYLIGHT
BEGIN:STANDARD
TZOFFSETFROM:-0800
TZOFFSETTO:-0900
TZNAME:AKST
DTSTART:20271107T100000
END:STANDARD
END:VTIMEZONE
BEGIN:VEVENT
DTSTART;VALUE=DATE:20260206
DTEND;VALUE=DATE:20260208
DTSTAMP:20260423T033914
CREATED:20251003T180452Z
LAST-MODIFIED:20260207T192446Z
UID:6245-1770336000-1770508799@www.jedc.org
SUMMARY:FTC State Championship
DESCRIPTION:FIRST Tech Challenge Alaska State Championship. \nLivestream at https://www.youtube.com/live/vOK6ChzWjSo?feature=shared \n  \n 
URL:https://www.jedc.org/firstinalaska/event/ftc-state-championship-tentative/
LOCATION:Colony High School\, 9550 E Bogard Rd\, Palmer\, 99645\, United States
CATEGORIES:FIRST Tech Challenge
END:VEVENT
BEGIN:VEVENT
DTSTART;VALUE=DATE:20260221
DTEND;VALUE=DATE:20260222
DTSTAMP:20260423T033914
CREATED:20251031T181019Z
LAST-MODIFIED:20251121T184327Z
UID:6247-1771632000-1771718399@www.jedc.org
SUMMARY:Alaska Robot Rendezvous
DESCRIPTION:FIRST Lego League Alaska Statewide Championship. \nIncludes the Anchorage / Matsu region FLL Explore Festival. \n 
URL:https://www.jedc.org/firstinalaska/event/fll-state-championship-tentative/
LOCATION:ChangePoint Alaska\, 6689 Changepoint Dr\, Anchorage\, AK\, 99518\, United States
CATEGORIES:FIRST Lego League Challenge,FIRST Lego League Explore
END:VEVENT
END:VCALENDAR